BEGIN:VCALENDAR
VERSION:2.0
PRODID:-//Kentucky Thoroughbred Farm Managers&#039; Club - ECPv6.15.20//NONSGML v1.0//EN
CALSCALE:GREGORIAN
METHOD:PUBLISH
X-WR-CALNAME:Kentucky Thoroughbred Farm Managers&#039; Club
X-ORIGINAL-URL:https://www.ktfmc.org
X-WR-CALDESC:Events for Kentucky Thoroughbred Farm Managers&#039; Club
REFRESH-INTERVAL;VALUE=DURATION:PT1H
X-Robots-Tag:noindex
X-PUBLISHED-TTL:PT1H
BEGIN:VTIMEZONE
TZID:America/Kentucky/Louisville
BEGIN:DAYLIGHT
TZOFFSETFROM:-0500
TZOFFSETTO:-0400
TZNAME:EDT
DTSTART:20240310T070000
END:DAYLIGHT
BEGIN:STANDARD
TZOFFSETFROM:-0400
TZOFFSETTO:-0500
TZNAME:EST
DTSTART:20241103T060000
END:STANDARD
BEGIN:DAYLIGHT
TZOFFSETFROM:-0500
TZOFFSETTO:-0400
TZNAME:EDT
DTSTART:20250309T070000
END:DAYLIGHT
BEGIN:STANDARD
TZOFFSETFROM:-0400
TZOFFSETTO:-0500
TZNAME:EST
DTSTART:20251102T060000
END:STANDARD
BEGIN:DAYLIGHT
TZOFFSETFROM:-0500
TZOFFSETTO:-0400
TZNAME:EDT
DTSTART:20260308T070000
END:DAYLIGHT
BEGIN:STANDARD
TZOFFSETFROM:-0400
TZOFFSETTO:-0500
TZNAME:EST
DTSTART:20261101T060000
END:STANDARD
END:VTIMEZONE
BEGIN:VEVENT
DTSTART;TZID=America/Kentucky/Louisville:20250527T183000
DTEND;TZID=America/Kentucky/Louisville:20250527T210000
DTSTAMP:20260422T101148
CREATED:20250513T182857Z
LAST-MODIFIED:20250522T200811Z
UID:25431-1748370600-1748379600@www.ktfmc.org
SUMMARY:May Membership Meeting 2025
DESCRIPTION:May Membership Meeting Announced\nPlease join KTFMC for an evening featuring prominent agents. \n  \nPanelists include: \nTom Ryan\, Donato Lanni\, Case Clay\, and Kenny McPeek \n  \nTuesday\, May 27\, 2025 \nat \nLimestone Hall \n(3rd Floor of the old Courthouse) \n215 W Main St. \nLexington\, KY 40511 \n  \nDoor opens at 6:00 P.M. \nThe meeting will begin at 6:45 P.M. \n  \n___________________________________ \n\nDue to the holiday weekend\, RSVPs must be in by 5 p.m. Thursday\, May 22\, 2025.\nYou do not need a PayPal account to pay. The credit card form is below the PayPal button.\nNo RSVPs will be taken after the deadline.\nNO PAYMENT WILL BE ACCEPTED AT THE DOOR.\nWe no longer reserve extra seating for walk-ins.\nFailure to cancel before the deadline will result in a non-refundable payment.\nPlease list the names of all attendees when making reservations.\n\n___________________________________ \nDowntown Parking Options \n\nStreet parking. Click here for city parking information.\nNearby parking garage (230 West Main). For more information\, click here.\nThere are also parking lots around the area. Various companies own them\, and their rates change daily depending on the events downtown and the time of day. *Please note: This will be the most expensive option for you.*\nAll parking options have a QR code you can scan to pay for parking on your phone.
URL:https://www.ktfmc.org/event/may-membership-meeting-2025/
LOCATION:Limestone Hall\, 215 W. Main Street\, 3rd Floor\, Lexington\, KY\, 40507\, United States
END:VEVENT
END:VCALENDAR