BEGIN:VCALENDAR
VERSION:2.0
PRODID:-//Kentucky Thoroughbred Farm Managers&#039; Club - ECPv6.15.20//NONSGML v1.0//EN
CALSCALE:GREGORIAN
METHOD:PUBLISH
X-ORIGINAL-URL:https://www.ktfmc.org
X-WR-CALDESC:Events for Kentucky Thoroughbred Farm Managers&#039; Club
REFRESH-INTERVAL;VALUE=DURATION:PT1H
X-Robots-Tag:noindex
X-PUBLISHED-TTL:PT1H
BEGIN:VTIMEZONE
TZID:America/Kentucky/Louisville
BEGIN:DAYLIGHT
TZOFFSETFROM:-0500
TZOFFSETTO:-0400
TZNAME:EDT
DTSTART:20240310T070000
END:DAYLIGHT
BEGIN:STANDARD
TZOFFSETFROM:-0400
TZOFFSETTO:-0500
TZNAME:EST
DTSTART:20241103T060000
END:STANDARD
BEGIN:DAYLIGHT
TZOFFSETFROM:-0500
TZOFFSETTO:-0400
TZNAME:EDT
DTSTART:20250309T070000
END:DAYLIGHT
BEGIN:STANDARD
TZOFFSETFROM:-0400
TZOFFSETTO:-0500
TZNAME:EST
DTSTART:20251102T060000
END:STANDARD
BEGIN:DAYLIGHT
TZOFFSETFROM:-0500
TZOFFSETTO:-0400
TZNAME:EDT
DTSTART:20260308T070000
END:DAYLIGHT
BEGIN:STANDARD
TZOFFSETFROM:-0400
TZOFFSETTO:-0500
TZNAME:EST
DTSTART:20261101T060000
END:STANDARD
END:VTIMEZONE
BEGIN:VEVENT
DTSTART;TZID=America/Kentucky/Louisville:20250608T120000
DTEND;TZID=America/Kentucky/Louisville:20250608T180000
DTSTAMP:20260422T120709
CREATED:20250402T160832Z
LAST-MODIFIED:20250527T204531Z
UID:25361-1749384000-1749405600@www.ktfmc.org
SUMMARY:2025 KTFMC Trail Ride & Picnic
DESCRIPTION:Donald L. Snellings Memorial\nTrail Ride & Picnic\n  \nThe Life Adventure Center\n570 Milner Road\, Versailles\, Kentucky 40383 \nSunday\, June 8\, 2025 \n  \n**EXTENDED: Deadline to register is Wednesday\, June 4\, 2025\, at 5:00 p.m.** \n  \nArrive at 11:00 a.m. \nThe guided trail ride will promptly start at noon. \nPicnic and family activities will begin at 2:30 p.m. \n  \nTRAIL RIDE: \n\nThe link to register is here.\nThe Life Adventure Center is handling the registration. Trail ride participants must complete their consent form and pay $15.\nHorses are not provided.\nFor more information about LAC\, visit https://lifeadventurecenter.org\n\nPICNIC AT THE PAVILION: \n\nBBQ lunch\, water\, and Gatorade will be provided at no cost thanks to our generous sponsors.\nThere will be various games and activities during the picnic.\nThe climbing wall and zipline will be open. New this year: archery and corn hole.\nYou’ll need to sign the waiver to participate. The link to the waiver is here.\n\n  \n\nTHANK YOU TO OUR SPONSORS \nStable Recovery \nBauer Hay & Straw\nBlandford Stud \nBlake-Albina Sales\nCandy Meadows Farm\nHallway Feeds\nIndian Creek Farm\nLegacy Sales\nLake Horse Transportation\nMerck Animal Health\nResolute Farm\nShawhan Place\nShawnee Farm \n  \nKBC-Water \n*The committee is still contacting potential sponsors. If you want to sponsor this event\, please email the office at info@ktfmc.org.
URL:https://www.ktfmc.org/event/2025-ktfmc-trail-ride-picnic/
LOCATION:The Life Adventure Center\, 570 Milner Rd\, Versailles\, KY\, United States
END:VEVENT
BEGIN:VEVENT
DTSTART;TZID=America/Kentucky/Louisville:20250617T183000
DTEND;TZID=America/Kentucky/Louisville:20250617T210000
DTSTAMP:20260422T120709
CREATED:20250604T151419Z
LAST-MODIFIED:20250613T204758Z
UID:25603-1750185000-1750194000@www.ktfmc.org
SUMMARY:June Membership Meeting
DESCRIPTION:June Membership Meeting Announced\nPlease join KAEP and KTFMC for a discussion on \n“Raise ‘Em Right: How yearlings not sold at auction are managed differently than those slated for the sales. Join us for a confirmation and nutrition analysis.” \n  \nPanelists include: \nDr. Alan Ruggles\, Rood & Riddle Equine Hospital \nDr. Dwayne Rodgerson\, Hagyard Equine Medical Institute \nDr. Stephen Jackson\, Bluegrass Equine Nutrition \nBen Henley\, Airdrie Stud\, and \nMichael Banahan\, Godolphin \n  \nTuesday\, June 17\, 2025 \nat \nLimestone Hall \n(3rd Floor of the old Courthouse) \n215 W Main St. \nLexington\, KY 40511 \n  \nDoor opens at 6:00 P.M. \nDinner and the meeting will begin at 6:45 P.M. \n  \n___________________________________ \n\nRSVPs must be in by 5 p.m. Friday\, June 13\, 2025.\nYou do not need a PayPal account to make a payment. The credit card form is below the PayPal button.\nNo RSVPs will be taken after the deadline.\nNO PAYMENT WILL BE ACCEPTED AT THE DOOR.\nWe no longer reserve extra seating for walk-ins.\nFailure to cancel before the deadline will result in a non-refundable payment.\nPlease list the names of all attendees when making reservations.\n\n___________________________________ \nDowntown Parking Options \n\nStreet parking. Click here for city parking information.\nNearby parking garage (230 West Main). For more information\, click here.\nThere are also parking lots around the area. Various companies own them\, and their rates change daily depending on the events downtown and the time of day. *Please note: This will be the most expensive option for you.*\nAll parking options have a QR code you can scan to pay for parking on your phone.
URL:https://www.ktfmc.org/event/june-membership-meeting/
LOCATION:Limestone Hall\, 215 W. Main Street\, 3rd Floor\, Lexington\, KY\, 40507\, United States
END:VEVENT
BEGIN:VEVENT
DTSTART;TZID=America/Kentucky/Louisville:20250624T120000
DTEND;TZID=America/Kentucky/Louisville:20250624T170000
DTSTAMP:20260422T120709
CREATED:20250513T182524Z
LAST-MODIFIED:20250602T160021Z
UID:25438-1750766400-1750784400@www.ktfmc.org
SUMMARY:2025 KTFMC Golf Scramble
DESCRIPTION:Please join us at the \n  \n33rd Annual Kentucky Thoroughbred Farm Managers’ Club\nChallenge Cup Golf Scramble \npresented by \n \n  \nTuesday\, June 24\, 2025 \nUniversity Club of Kentucky \n  \nATTENTION: \nCheck-in will begin at 12:00 p.m. \nShotgun start at 1:00 p.m. \n  \nIf spots are available for teams to register\, they will open on Monday\, June 2nd at 1:00 pm. \nHowever\, spots are limited\, and it will sell out. Please consider becoming a Corporate Sponsor. \nIf sold out\, please email the office (info@ktfmc.org) to be added to the waiting list.* \n  \n\nCheck in and lunch will be at the Pavilion\, and dinner will follow the golf scramble.\nBeer\, water\, and soft drinks will be provided on the course; please do not bring your own.\nThere will be a first\, second\, and third-place team winner for both courses and an overall champion team decided by a one-hole playoff between the first-place team from each course.\nThe individual closest to the pin and with the longest drive will be awarded prizes.\nDress Code: All guests must wear appropriate golf attire. This would exclude items such as cut-offs\, tanks\, t-shirts\, and jeans.\nTeams should have an A\,B\,C\, and D level player. A minimum of two drives per player must be used during the 18 holes of play.\nTeams are formed without KTFMC input\, but individual entries will be placed on a team that is not full by our golf scramble committee members.\n\n  \nIf you have questions\, need an invoice\, want to add something in the goody bags\, etc.\, please email the office at info@ktfmc.org. \nTo learn more about sponsorship packages and to register online\, see the options below:
URL:https://www.ktfmc.org/event/2025-ktfmc-golf-scramble/
LOCATION:The University Club Golf Course\, 4850 Leestown Rd\, Lexington\, KY\, 40511
END:VEVENT
END:VCALENDAR