BEGIN:VCALENDAR
VERSION:2.0
PRODID:-//Kentucky Thoroughbred Farm Managers&#039; Club - ECPv6.15.20//NONSGML v1.0//EN
CALSCALE:GREGORIAN
METHOD:PUBLISH
X-WR-CALNAME:Kentucky Thoroughbred Farm Managers&#039; Club
X-ORIGINAL-URL:https://www.ktfmc.org
X-WR-CALDESC:Events for Kentucky Thoroughbred Farm Managers&#039; Club
REFRESH-INTERVAL;VALUE=DURATION:PT1H
X-Robots-Tag:noindex
X-PUBLISHED-TTL:PT1H
BEGIN:VTIMEZONE
TZID:America/Kentucky/Louisville
BEGIN:DAYLIGHT
TZOFFSETFROM:-0500
TZOFFSETTO:-0400
TZNAME:EDT
DTSTART:20240310T070000
END:DAYLIGHT
BEGIN:STANDARD
TZOFFSETFROM:-0400
TZOFFSETTO:-0500
TZNAME:EST
DTSTART:20241103T060000
END:STANDARD
BEGIN:DAYLIGHT
TZOFFSETFROM:-0500
TZOFFSETTO:-0400
TZNAME:EDT
DTSTART:20250309T070000
END:DAYLIGHT
BEGIN:STANDARD
TZOFFSETFROM:-0400
TZOFFSETTO:-0500
TZNAME:EST
DTSTART:20251102T060000
END:STANDARD
BEGIN:DAYLIGHT
TZOFFSETFROM:-0500
TZOFFSETTO:-0400
TZNAME:EDT
DTSTART:20260308T070000
END:DAYLIGHT
BEGIN:STANDARD
TZOFFSETFROM:-0400
TZOFFSETTO:-0500
TZNAME:EST
DTSTART:20261101T060000
END:STANDARD
END:VTIMEZONE
BEGIN:VEVENT
DTSTART;TZID=America/Kentucky/Louisville:20251205T183000
DTEND;TZID=America/Kentucky/Louisville:20251205T230000
DTSTAMP:20260425T084923
CREATED:20251001T170355Z
LAST-MODIFIED:20251204T195526Z
UID:25972-1764959400-1764975600@www.ktfmc.org
SUMMARY:2025 KTFMC DINNER DANCE
DESCRIPTION:  \nJoin us in celebrating \n2025 Ted Bates Farm Manager of the Year \nDavid Hanley \nof WinStar Farm \nat the \nKentucky Thoroughbred Farm Managers’ Club Dinner Dance \nPresented by WinStar Farm \non Friday\, December 5\, 2025 \n  \nThe Carrick House \n312 N. Limestone \nLexington\, KY 40508 \n  \nAttire is semi-formal. \nLong and short dresses are acceptable. \nTuxedos are not required. \n  \nSilent auction to benefit \nAnn Hanley: Parkinson’s Research Fund \nAnn Hanley was diagnosed with Parkinson’s disease at the age of 49. Parkinson’s is a degenerative disease that damages and eventually destroys neurons in the brain\, causing muscle rigidity and tremors\, difficulty moving\, unstable posture\, and ultimately death. Receiving the diagnosis wasn’t easy\, but instead of letting fear get her down\, she focused her energy on lifting other Parkinson’s patients up. Ann quickly realized there was inadequate funding for the much needed research of this disease\, so she created the Ann Hanley Parkinson’s Research Fund to help bring awareness and research dollars to a disease that affects an estimated 10 million people worldwide and has no cure. Through Ann’s efforts and the dedication of the University of Kentucky Drs. Greg Gerhardt and Craig Van Horne\, important breakthroughs and progress has been made\, but they aren’t there yet. Help them fund the essential research needed to find better treatments options\, and eventually a cure for this devastating and incurable disease. This is an opportunity for you to make a difference in people’s lives who have been impacted by Parkinson’s. Please join their fight for a cure. \n  \nSchedule of Evening \n6:30 Registration & Cocktails \n7:30 Dinner \n8:00 Presentation \n9:00 Music \n10:00 Silent auction ends \n11:00 Event concludes \n  \n  \nEvent Sponsors:  \nWinStar Farm\, Fasig-Tipton\, Hallway Feeds\, Keeneland\, Kentucky Equine Hospital\, Brook Ledge Horse Transportation\, Coolmore\, Hagyard Equine Hospital\, McCauley’s Feeds\, Rood & Riddle Equine Hospital\, Sallee\, Taylor Made Farm\, Equine Medical Associates\, Gainesway Farm\, Hagyard Pharmacy\, Post Parade Wine\, Resolute Racing\, UK Martin Gatton College of Agriculture\, War Horse Place\, and Warrendale Sales. \n  \n\nRSVPs must be made by 5 p.m. on Friday\, November 21\, 2025.\n\nThis is a hard deadline.\n\n\nInvoices must be paid before the RSVP deadline.\nIf you would prefer to receive an invoice\, please email the office at info@ktfmc.org.\nPlease list the names of all attendees when making reservations.
URL:https://www.ktfmc.org/event/2025-ktfmc-dinner-dance/
LOCATION:Carrick House\, 312 N. Limestone\, Lexington\, KY\, 40508
END:VEVENT
END:VCALENDAR